BEGIN:VCALENDAR
VERSION:2.0
PRODID:-//International Buddhist Progress Society of Montreal - ECPv6.15.20//NONSGML v1.0//EN
CALSCALE:GREGORIAN
METHOD:PUBLISH
X-ORIGINAL-URL:https://ibpsmtl.org
X-WR-CALDESC:Events for International Buddhist Progress Society of Montreal
REFRESH-INTERVAL;VALUE=DURATION:PT1H
X-Robots-Tag:noindex
X-PUBLISHED-TTL:PT1H
BEGIN:VTIMEZONE
TZID:America/Toronto
BEGIN:DAYLIGHT
TZOFFSETFROM:-0500
TZOFFSETTO:-0400
TZNAME:EDT
DTSTART:20220313T070000
END:DAYLIGHT
BEGIN:STANDARD
TZOFFSETFROM:-0400
TZOFFSETTO:-0500
TZNAME:EST
DTSTART:20221106T060000
END:STANDARD
BEGIN:DAYLIGHT
TZOFFSETFROM:-0500
TZOFFSETTO:-0400
TZNAME:EDT
DTSTART:20230312T070000
END:DAYLIGHT
BEGIN:STANDARD
TZOFFSETFROM:-0400
TZOFFSETTO:-0500
TZNAME:EST
DTSTART:20231105T060000
END:STANDARD
BEGIN:DAYLIGHT
TZOFFSETFROM:-0500
TZOFFSETTO:-0400
TZNAME:EDT
DTSTART:20240310T070000
END:DAYLIGHT
BEGIN:STANDARD
TZOFFSETFROM:-0400
TZOFFSETTO:-0500
TZNAME:EST
DTSTART:20241103T060000
END:STANDARD
END:VTIMEZONE
BEGIN:VEVENT
DTSTART;TZID=America/Toronto:20230305T093000
DTEND;TZID=America/Toronto:20230305T123000
DTSTAMP:20260421T004241
CREATED:20230128T184223Z
LAST-MODIFIED:20230128T184223Z
UID:6239-1678008600-1678019400@ibpsmtl.org
SUMMARY:大悲懺法會
DESCRIPTION:
URL:https://ibpsmtl.org/event/%e5%a4%a7%e6%82%b2%e6%87%ba%e6%b3%95%e6%9c%83-5/
END:VEVENT
BEGIN:VEVENT
DTSTART;TZID=America/Toronto:20230312T100000
DTEND;TZID=America/Toronto:20230312T120000
DTSTAMP:20260421T004241
CREATED:20230311T154443Z
LAST-MODIFIED:20230311T154443Z
UID:6557-1678615200-1678622400@ibpsmtl.org
SUMMARY:光明燈消災法會
DESCRIPTION:
URL:https://ibpsmtl.org/event/%e5%85%89%e6%98%8e%e7%87%88%e6%b6%88%e7%81%bd%e6%b3%95%e6%9c%83-18/
END:VEVENT
BEGIN:VEVENT
DTSTART;TZID=America/Toronto:20230312T143000
DTEND;TZID=America/Toronto:20230312T160000
DTSTAMP:20260421T004241
CREATED:20230311T154532Z
LAST-MODIFIED:20230311T154532Z
UID:6559-1678631400-1678636800@ibpsmtl.org
SUMMARY:為星雲大師追思讚頌會暨話說師父分享會
DESCRIPTION:
URL:https://ibpsmtl.org/event/%e7%82%ba%e6%98%9f%e9%9b%b2%e5%a4%a7%e5%b8%ab%e8%bf%bd%e6%80%9d%e8%ae%9a%e9%a0%8c%e6%9c%83%e6%9a%a8%e8%a9%b1%e8%aa%aa%e5%b8%ab%e7%88%b6%e5%88%86%e4%ba%ab%e6%9c%83/
END:VEVENT
BEGIN:VEVENT
DTSTART;TZID=America/Toronto:20230319T100000
DTEND;TZID=America/Toronto:20230319T120000
DTSTAMP:20260421T004241
CREATED:20230311T154608Z
LAST-MODIFIED:20230311T154608Z
UID:6561-1679220000-1679227200@ibpsmtl.org
SUMMARY:共修法會-金剛經
DESCRIPTION:
URL:https://ibpsmtl.org/event/%e5%85%b1%e4%bf%ae%e6%b3%95%e6%9c%83-%e9%87%91%e5%89%9b%e7%b6%93-6/
END:VEVENT
BEGIN:VEVENT
DTSTART;TZID=America/Toronto:20230319T143000
DTEND;TZID=America/Toronto:20230319T160000
DTSTAMP:20260421T004241
CREATED:20230311T154715Z
LAST-MODIFIED:20230311T154715Z
UID:6563-1679236200-1679241600@ibpsmtl.org
SUMMARY:講座 “機器之心“機器人是否能成佛？--佛教心理學視角下的人工智能
DESCRIPTION:
URL:https://ibpsmtl.org/event/%e8%ac%9b%e5%ba%a7-%e6%a9%9f%e5%99%a8%e4%b9%8b%e5%bf%83%e6%a9%9f%e5%99%a8%e4%ba%ba%e6%98%af%e5%90%a6%e8%83%bd%e6%88%90%e4%bd%9b%ef%bc%9f-%e4%bd%9b%e6%95%99%e5%bf%83%e7%90%86/
END:VEVENT
BEGIN:VEVENT
DTSTART;TZID=America/Toronto:20230326T100000
DTEND;TZID=America/Toronto:20230326T120000
DTSTAMP:20260421T004241
CREATED:20230311T154746Z
LAST-MODIFIED:20230311T154746Z
UID:6565-1679824800-1679832000@ibpsmtl.org
SUMMARY:共修法會-阿彌陀經
DESCRIPTION:
URL:https://ibpsmtl.org/event/%e5%85%b1%e4%bf%ae%e6%b3%95%e6%9c%83-%e9%98%bf%e5%bd%8c%e9%99%80%e7%b6%93-8/
END:VEVENT
END:VCALENDAR